BEGIN:VCALENDAR
PRODID;X-RICAL-TZSOURCE=TZINFO:-//Calagator//EN
CALSCALE:GREGORIAN
X-WR-CALNAME:Calagator
METHOD:PUBLISH
VERSION:2.0
BEGIN:VTIMEZONE
TZID;X-RICAL-TZSOURCE=TZINFO:America/Los_Angeles
BEGIN:DAYLIGHT
DTSTART:20260308T020000
RDATE:20260308T020000
TZOFFSETFROM:-0800
TZOFFSETTO:-0700
TZNAME:PDT
END:DAYLIGHT
END:VTIMEZONE
BEGIN:VEVENT
CREATED;VALUE=DATE-TIME:20260423T205741Z
DTEND;TZID=America/Los_Angeles;VALUE=DATE-TIME:20260507T094500
DTSTART;TZID=America/Los_Angeles;VALUE=DATE-TIME:20260507T090000
DTSTAMP;VALUE=DATE-TIME:20260423T205741Z
LAST-MODIFIED;VALUE=DATE-TIME:20260423T205741Z
UID:http://calagator.org/events/1250482541
DESCRIPTION:When targets get missed\, the instinct is to do more. More le
 ads. More calls. More pressure. That's not a strategy. That's GTM hell.&
 #13\;\n&#13\;\nThis session works on two levels - providing immediate st
 rategies to improve results now and a framework for building a repeatabl
 e growth engine going forward.&#13\;\n&#13\;\nIn 45 minutes\, we'll walk
  through:&#13\;\n&#13\;\n- Eight pillars that drive (or stall) growth&#1
 3\;\n- What each looks like when it drifts&#13\;\n- A prioritization len
 s for where to act first\, without blowing up what's working&#13\;\n&#13
 \;\nThis session is designed for growth-stage companies navigating real 
 commercial complexity: expanding into B2B\, managing hybrid revenue mode
 ls\, or outgrowing the motion that got you here.&#13\;\n&#13\;\nYou'll l
 eave with a clear path out of the activity spiral and back to efficient 
 revenue growth. \n\nImported from: http://calagator.org/events/125048254
 1
URL:https://riverside.com/webinar/registration/eyJldmVudElkIjoiNjlkODBlN2
 MyYjU3ZDc0ZTZlZmMxZGVjIiwic2x1ZyI6ImVyaW4tLWRlZXMtc3R1ZGlvIn0=
SUMMARY:Escaping GTM Hell: From Activity to Impact
LOCATION:https://riverside.com/webinar/registration/eyJldmVudElkIjoiNjlkO
 DBlN2MyYjU3ZDc0ZTZlZmMxZGVjIiwic2x1ZyI6ImVyaW4tLWRlZXMtc3R1ZGlvIn0=: fal
 se
SEQUENCE:1
END:VEVENT
END:VCALENDAR
