BEGIN:VCALENDAR
PRODID;X-RICAL-TZSOURCE=TZINFO:-//Calagator//EN
CALSCALE:GREGORIAN
X-WR-CALNAME:Calagator
METHOD:PUBLISH
VERSION:2.0
BEGIN:VTIMEZONE
TZID;X-RICAL-TZSOURCE=TZINFO:America/Los_Angeles
BEGIN:DAYLIGHT
DTSTART:20260308T020000
RDATE:20260308T020000
TZOFFSETFROM:-0800
TZOFFSETTO:-0700
TZNAME:PDT
END:DAYLIGHT
END:VTIMEZONE
BEGIN:VEVENT
CREATED;VALUE=DATE-TIME:20260423T154924Z
DTEND;TZID=America/Los_Angeles;VALUE=DATE-TIME:20260717T000000
DTSTART;TZID=America/Los_Angeles;VALUE=DATE-TIME:20260717T000000
DTSTAMP;VALUE=DATE-TIME:20260423T154924Z
LAST-MODIFIED;VALUE=DATE-TIME:20260423T154924Z
UID:http://calagator.org/events/1250482539
DESCRIPTION:\n\nImported from: http://calagator.org/events/1250482539
SUMMARY:Portland Hollywood Lions Club Golf Tournament 
LOCATION:Portland Hollywood lions club: false
SEQUENCE:1
END:VEVENT
BEGIN:VEVENT
CREATED;VALUE=DATE-TIME:20260423T154955Z
DTEND;TZID=America/Los_Angeles;VALUE=DATE-TIME:20260717T090000
DTSTART;TZID=America/Los_Angeles;VALUE=DATE-TIME:20260717T090000
DTSTAMP;VALUE=DATE-TIME:20260423T154955Z
LAST-MODIFIED;VALUE=DATE-TIME:20260423T154955Z
UID:http://calagator.org/events/1250482540
DESCRIPTION:\n\nImported from: http://calagator.org/events/1250482540
SUMMARY:Portland Hollywood Lions Club Golf Tournament 
LOCATION:Portland Hollywood lions club: false
SEQUENCE:1
END:VEVENT
BEGIN:VEVENT
CREATED;VALUE=DATE-TIME:20260423T154807Z
DTEND;TZID=America/Los_Angeles;VALUE=DATE-TIME:20260718T120000
DTSTART;TZID=America/Los_Angeles;VALUE=DATE-TIME:20260718T090000
DTSTAMP;VALUE=DATE-TIME:20260423T154807Z
LAST-MODIFIED;VALUE=DATE-TIME:20260423T154807Z
UID:http://calagator.org/events/1250482538
DESCRIPTION:Portland Hollywood Lions Club Golf Tournament July 17th \n\nI
 mported from: http://calagator.org/events/1250482538
SUMMARY:Portland Hollywood Lions Club Golf Tournament 
LOCATION:Portland Hollywood lions club: false
SEQUENCE:1
END:VEVENT
END:VCALENDAR
