BEGIN:VCALENDAR
PRODID;X-RICAL-TZSOURCE=TZINFO:-//Calagator//EN
CALSCALE:GREGORIAN
X-WR-CALNAME:Calagator
METHOD:PUBLISH
VERSION:2.0
BEGIN:VTIMEZONE
TZID;X-RICAL-TZSOURCE=TZINFO:America/Los_Angeles
BEGIN:DAYLIGHT
DTSTART:20260308T020000
RDATE:20260308T020000
TZOFFSETFROM:-0800
TZOFFSETTO:-0700
TZNAME:PDT
END:DAYLIGHT
END:VTIMEZONE
BEGIN:VEVENT
CREATED;VALUE=DATE-TIME:20260424T154010Z
DTEND;TZID=America/Los_Angeles;VALUE=DATE-TIME:20260429T110000
DTSTART;TZID=America/Los_Angeles;VALUE=DATE-TIME:20260429T100000
DTSTAMP;VALUE=DATE-TIME:20260424T154010Z
LAST-MODIFIED;VALUE=DATE-TIME:20260424T154010Z
UID:http://calagator.org/events/1250482542
DESCRIPTION:A special fireside chat for startup communities with Brad Fel
 d and Eric Ries. &#13\;\n&#13\;\nEric has a new book coming out on May 2
 6 called Incorruptible. It's about how to build companies that stay miss
 ion-driven over the long term. While The Lean Startup helps entrepreneur
 s create valuable organizations\, Incorruptible covers how and why to pr
 otect them.&#13\;\n&#13\;\nBrad Feld is the author of Startup Communitie
 s and co-founder of TechStars. He recently published a new book called G
 ive First: The Power of Mentoring.&#13\;\n&#13\;\nIn this virtual firesi
 de chat\, Brad and Eric will discuss the lessons learned as founders\, i
 nvestors\, and advisors. The goal is to share useful insights and practi
 cal frameworks to accelerate your learning.\n\nImported from: http://cal
 agator.org/events/1250482542
URL:https://community.incorruptible.co/plans/1975971
SUMMARY:A Fireside Chat for Startup Communities
LOCATION:Virtual: false
SEQUENCE:1
END:VEVENT
END:VCALENDAR
