BEGIN:VCALENDAR
PRODID;X-RICAL-TZSOURCE=TZINFO:-//Calagator//EN
CALSCALE:GREGORIAN
X-WR-CALNAME:Calagator
METHOD:PUBLISH
VERSION:2.0
BEGIN:VTIMEZONE
TZID;X-RICAL-TZSOURCE=TZINFO:America/Los_Angeles
BEGIN:DAYLIGHT
DTSTART:20260308T020000
RDATE:20260308T020000
TZOFFSETFROM:-0800
TZOFFSETTO:-0700
TZNAME:PDT
END:DAYLIGHT
END:VTIMEZONE
BEGIN:VEVENT
CREATED;VALUE=DATE-TIME:20260420T032541Z
DTEND;TZID=America/Los_Angeles;VALUE=DATE-TIME:20260517T170000
DTSTART;TZID=America/Los_Angeles;VALUE=DATE-TIME:20260517T130000
DTSTAMP;VALUE=DATE-TIME:20260420T032541Z
LAST-MODIFIED;VALUE=DATE-TIME:20260420T032541Z
UID:http://calagator.org/events/1250482537
DESCRIPTION:That PLUG Clinic you like is coming back into style!&#13\;\n&
 #13\;\nThe PLUG Clinic returns again this month on May 17\, from 1pm-5pm
 . Note the different venue this month\, we are back at the Albina Branch
  Library. If you need help with your Linux computer\, or want to offer h
 elp\, you are welcome!&#13\;\n&#13\;\nVolunteer helpers are as desirable
  as helpees. Helping is fun and rewarding. If you've ever helped out at 
 a PLUG Clinic before\, come checkout the space!&#13\;\n&#13\;\nThanks to
  the taxpayers of Multnomah County for the beautiful new building!\n\nTa
 gs: Linux Help\, plug\, clinic\n\nImported from: http://calagator.org/ev
 ents/1250482537
URL:https://pdxlinux.org/
SUMMARY:Portland Linux/Unix Group's Monthly Linux Clinic
LOCATION:Multnomah County Library Albina Branch: 205 NE Russell St\, Port
 land OR 97212 US
SEQUENCE:2
END:VEVENT
END:VCALENDAR
